BEGIN:VCALENDAR
VERSION:2.0
PRODID:-//eventon.com NONSGML v1.0//EN
CALSCALE:GREGORIAN
METHOD:PUBLISH
BEGIN:VEVENT
UID:69e74475181f5
DTSTAMP:20260421T093341Z
DTSTART:20240406T091500Z
DTEND:20240406T114500Z
LOCATION:
SUMMARY:LES ATELIERS DE REFLEXOLOGIE DE STEPHANIE BOULARD
DESCRIPTION:Pour le mois d&#8217;avril\,  Stéphanie vous propose deux nouv
 eaux thèmes pour ses ateliers : 9h15 -10h15 STRESS ET EMOTIONS ✨ 10h45 -
 11h45 JAMBES LOURDES ✨ Rdv à La Caale  Le samedi 6 avril dès 9h15 Rés
 ervation 06.60.95.33.26. www.stephanie-reflexologie.com Stéphanie BOULARD 
 Infirmière Praticienne en réflexologie combinée Conseillère en thérapi
 e florale\nhttps://lacaale.fr/events/les-ateliers-de-reflexologie-de-stepha
 nie-boulard-2/
URL:https://lacaale.fr/events/les-ateliers-de-reflexologie-de-stephanie-boulard-2/
END:VEVENT
END:VCALENDAR