BEGIN:VCALENDAR
VERSION:2.0
PRODID:-//eventon.com NONSGML v1.0//EN
CALSCALE:GREGORIAN
METHOD:PUBLISH
BEGIN:VEVENT
UID:69e7436caa290
DTSTAMP:20260421T092916Z
DTSTART:20241004T083000Z
DTEND:20241004T120000Z
LOCATION:
SUMMARY:Portes Ouvertes - Matinée découverte de l'économie sociale et solidaire (ESS)
DESCRIPTION:Dans le cadre de ses journées portes ouvertes\,  La Caale vous
  propose de participer à cette matinée dédiée à la découverte de l&#
 8217;Economie Sociale et Solidaire. Une présentation ludique de l&#8217;ES
 S par nos partenaires la Chambre Régionale de l&#8217;ESS Nouvelle-Aquitai
 ne\,   France Active et COAPI Avec des témoignages d&#8217;entrepreneurs 
 et entreprises de[..]\nhttps://lacaale.fr/events/portes-ouvertes-matinee-de
 couverte-de-leconomie-sociale-et-solidaire-ess/
URL:https://lacaale.fr/events/portes-ouvertes-matinee-decouverte-de-leconomie-sociale-et-solidaire-ess/
END:VEVENT
END:VCALENDAR