BEGIN:VCALENDAR
VERSION:2.0
PRODID:-//eventon.com NONSGML v1.0//EN
CALSCALE:GREGORIAN
METHOD:PUBLISH
BEGIN:VEVENT
UID:69e74d93bc929
DTSTAMP:20260421T101235Z
DTSTART:20241010T090000Z
DTEND:20241010T120000Z
LOCATION:
SUMMARY:Atelier Comment lancer sa micro-entreprise libérale?
DESCRIPTION:Sur cet atelier de 3h\,  Fabien Eugène\,  conseiller en format
 ion à La Maison des Professions Libérales Grand Ouest vous présentera le
 s avantages et les obligations d&#8217;une micro-entreprise libérale. Un a
 telier gratuit sur inscriptions auprès de Fabien Eugène : f.eugene@mplgra
 ndouest.org ou au 07.86.59.71.15\nhttps://lacaale.fr/events/atelier-comment
 -lancer-sa-micro-entreprise-liberale/
URL:https://lacaale.fr/events/atelier-comment-lancer-sa-micro-entreprise-liberale/
END:VEVENT
END:VCALENDAR