BEGIN:VCALENDAR
VERSION:2.0
PRODID:-//eventon.com NONSGML v1.0//EN
CALSCALE:GREGORIAN
METHOD:PUBLISH
BEGIN:VEVENT
UID:69e688bcf3981
DTSTAMP:20260420T201244Z
DTSTART:20250121
DTEND:20250122
LOCATION:
SUMMARY:Formation premiers secours en santé mental
DESCRIPTION:Apprenez à aider\,  comprenez pour agir ! La Formation Premier
 s Secours en Santé Mentale est une formation destinée à tous pour appren
 dre à reconnaître\,  accompagner et orienter une personne en souffrance p
 sychique. Objectifs de la formation 🧠 Déstigmatiser les troubles liés 
 à la santé mentale. ❓ Identifier les signes précoces[..]\nhttps://laca
 ale.fr/events/formation-premiers-secours-en-sante-mental/
URL:https://lacaale.fr/events/formation-premiers-secours-en-sante-mental/
END:VEVENT
END:VCALENDAR