BEGIN:VCALENDAR
VERSION:2.0
PRODID:-//eventon.com NONSGML v1.0//EN
CALSCALE:GREGORIAN
METHOD:PUBLISH
BEGIN:VEVENT
UID:69e8562b15ae2
DTSTAMP:20260422T050131Z
DTSTART:20250318T090000Z
DTEND:20250318T123000Z
LOCATION:
SUMMARY:Atelier Comment lancer sa micro-entreprise libérale ?
DESCRIPTION:Sur cet atelier de 3h\,  Fabien Eugène\,  conseiller en format
 ion à La Maison des Professions Libérales Grand Ouest vous présentera le
 s avantages et les obligations d&#8217;une micro-entreprise libérale. Un a
 telier gratuit sur inscriptions auprès de Fabien Eugène : f.eugene@mplgra
 ndouest.org ou au 07.86.59.71.15\nhttps://lacaale.fr/events/atelier-comment
 -lancer-sa-micro-entreprise-liberale-2/
URL:https://lacaale.fr/events/atelier-comment-lancer-sa-micro-entreprise-liberale-2/
END:VEVENT
END:VCALENDAR